BEGIN:VCALENDAR
VERSION:2.0
PRODID:-//Lore-Institute - ECPv5.16.4//NONSGML v1.0//EN
CALSCALE:GREGORIAN
METHOD:PUBLISH
X-ORIGINAL-URL:https://lore.ac.mz
X-WR-CALDESC:Events for Lore-Institute
REFRESH-INTERVAL;VALUE=DURATION:PT1H
X-Robots-Tag:noindex
X-PUBLISHED-TTL:PT1H
BEGIN:VTIMEZONE
TZID:UTC
BEGIN:STANDARD
TZOFFSETFROM:+0000
TZOFFSETTO:+0000
TZNAME:UTC
DTSTART:20220101T000000
END:STANDARD
END:VTIMEZONE
BEGIN:VEVENT
DTSTART;VALUE=DATE:20221102
DTEND;VALUE=DATE:20230115
DTSTAMP:20260421T081629
CREATED:20221114T110617Z
LAST-MODIFIED:20221114T110619Z
UID:6510-1667347200-1673740799@lore.ac.mz
SUMMARY:EXCEL-AVANÇADO
DESCRIPTION:O instituto foco oferece o curso de excel-avançado com a duração de 2-meses.\nAproveite já a oportunidade.\nInscrever-se
URL:https://lore.ac.mz/event/excel-avancado/
END:VEVENT
END:VCALENDAR